BEGIN:VCALENDAR
VERSION:2.0
PRODID:-//ExpressionEngine Easy iCalendar plugin//NONSGML v2.0.1//EN
X-WR-TIMEZONE:America/New_York
X-WR-CALNAME:Upcoming Auctions
BEGIN:VEVENT
UID:58490
DTSTAMP:20210208T060000
DTSTART:20210208T060000
DTEND:20210218T110000
SUMMARY:Lake Wales Country Club
LOCATION:2925 State Road 60 E\, Lake Wales\, FL 33898\, US
DESCRIPTION:Lake Wales Country Club in Lake Wales\, FL Selling at Auctio
 n!
URL:https://www.bullseyeauctions.com/auctions/detail/bw58490
SEQUENCE:1
END:VEVENT
END:VCALENDAR