BEGIN:VCALENDAR
VERSION:2.0
PRODID:-//ExpressionEngine Easy iCalendar plugin//NONSGML v2.0.1//EN
X-WR-TIMEZONE:America/New_York
X-WR-CALNAME:Upcoming Auctions
BEGIN:VEVENT
UID:28267
DTSTAMP:20170301T120000
DTSTART:20170301T120000
DTEND:20170309T100000
SUMMARY:Bulk Offering of Complete Dry Cleaner Equipment
LOCATION:{location}
DESCRIPTION:AUCTION HAS BEEN POSTPONED – SEE AUCTIONEER’S ANNOUNCEM
 ENT IN DETAILSSelling all equipment associated with a forme
 r dry cleaners in Tucker\, GA.
URL:https://www.bullseyeauctions.com/auctions/detail/bw28267
SEQUENCE:1
END:VEVENT
END:VCALENDAR