BEGIN:VCALENDAR
VERSION:2.0
PRODID:-//ExpressionEngine Easy iCalendar plugin//NONSGML v2.0.0//EN
X-WR-TIMEZONE:America/New_York
X-WR-CALNAME:Upcoming Auctions
BEGIN:VEVENT
UID:154767
DTSTAMP:20260201T060000
DTSTART:20260201T060000
DTEND:20260210T110000
SUMMARY:2017 Toyota Tacoma
LOCATION:{location}
DESCRIPTION:Selling a 2017 Toyota Tacoma on behalf of the U.S. Bankruptc
 y Court.
URL:https://www.bullseyeauctions.com/auctions/detail/bw154767
SEQUENCE:1
END:VEVENT
END:VCALENDAR