BEGIN:VCALENDAR
VERSION:2.0
PRODID:-//ExpressionEngine Easy iCalendar plugin//NONSGML v2.0.0//EN
X-WR-TIMEZONE:America/New_York
X-WR-CALNAME:Upcoming Auctions
BEGIN:VEVENT
UID:153629
DTSTAMP:20260117T060000
DTSTART:20260117T060000
DTEND:20260127T110000
SUMMARY:Downtown Newnan\, GA Retail / Office Building
LOCATION:{location}
DESCRIPTION:The property consists of two street level retail suites and 
 large office suite upstairs. The two retail suites are curre
 ntly leased.Â  For current rent roll and other lease informa
 tion\, please contact Scott Schwartz @ 404-550-3490.Â CowetaÂ
  County Tax Parcel ID: N01 0007 006
URL:https://www.bullseyeauctions.com/auctions/detail/bw153629
SEQUENCE:1
END:VEVENT
END:VCALENDAR