BEGIN:VCALENDAR
VERSION:2.0
PRODID:-//ExpressionEngine Easy iCalendar plugin//NONSGML v2.0.0//EN
X-WR-TIMEZONE:America/New_York
X-WR-CALNAME:Upcoming Auctions
BEGIN:VEVENT
UID:151630
DTSTAMP:20251206T050000
DTSTART:20251206T050000
DTEND:20251216T100000
SUMMARY:Bank Owned Volvo Semi Trailer Sleeper Trucks
LOCATION:7290 Delta Circle\, Austell\, GA 30168\, US
DESCRIPTION:Bank-Owned Volvo Semi Trailer Sleeper Trucks Selling at Auct
 ion!
URL:https://www.bullseyeauctions.com/auctions/detail/bw151630
SEQUENCE:1
END:VEVENT
END:VCALENDAR